Workbook
Name Car: #REF!
Name ClosingBOrdinary: 'START HERE'!$G$60
Name ClosingCOrdinary: 'START HERE'!$G$61
Name CompanyDirector: #REF!
Name COMPETING_LVR: #REF!
Name COMPETING_LVR_17: #REF!
Name COMPETING_LVR_18: #REF!
Name COMPETING_LVR_19: #REF!
Name CURRENT_PA_2016: #REF!
Name CURRENT_PA_2017: #REF!
Name CURRENT_PA_2018: #REF!
Name CURRENT_PA_2019: #REF!
Name DateFrom: #REF!
Name DateTo: #REF!
Name DeferredBOrdinary: 'START HERE'!$G$66
Name DeferredCOrdinary: 'START HERE'!$G$67
Name Dividend: #REF!
Name EXCEPTIONAL_LVR: #REF!
Name EXCEPTIONAL_LVR_17: #REF!
Name EXCEPTIONAL_LVR_18: #REF!
Name EXCEPTIONAL_LVR_19: #REF!
Name EXCEPTIONAL_LVR_1906: #REF!
Name EXCEPTIONAL_LVR_1911: #REF!
Name EXCEPTIONAL_LVR_1912: #REF!
Name EXCEPTIONAL_LVR_2003: #REF!
Name Loan: #REF!
Name medical: #REF!
Name NORMAL_LVR: #REF!
Name NORMAL_LVR_17: #REF!
Name NORMAL_LVR_18: #REF!
Name NORMAL_LVR_1906: #REF!
Name NORMAL_LVR_1911: #REF!
Name NORMAL_LVR_1912: #REF!
Name NORMAL_LVR_2003.: #REF!
Name other: #REF!
Name PATax: #REF!
Name PATaxIncome: #REF!
Name PreferenceShare: 'START HERE'!$G$34
Name PrevIncome: #REF!
Name PrevTax: #REF!
Name relocation: #REF!
Name StudentLoan: #REF!
Name taxCredit: #REF!

Sheet START HERE
B3: UK - Worksheet to help you calculate and report capital gains on your 20 March 2026 sale of PA shares to Jacobs
B4: PART A - RUN YOUR PA SHARE TRANSACTION HISTORY TO POPULATE YOUR 20 MARCH 2026 SALE PROCEEDS AND TO ESTABLISH THE BASE COST OF THE PA SHARES YOU SOLD ON 20 MARCH.
B5: 1) Click the link open your PA share history and use the SAVE icon to download it to Excel. Former / non-employees must email shareplans@paconsulting.com to request their report | E5: ShareTransactionHistory User - Power BI | K5: PA | L5: =COUNTIF('Data Share Units'!D:D,'START HERE'!K5) -> 0
B6: 2) Copy (using CTRL-C) and paste (CTRL-V) from your share history report your "20 March 2026 Sale" sheet into the sheet of same name in this excel. When pasting, first select the whole receiving sheet by clicking the square about 1 and to the left of A. This ensures the formulas will flow to this sheet.
A7: =IF(F7>0,"Exchange","") | B7: =IF(A7="Exchange","You need to enter*","3) You can skip this step") -> 3) You can skip this step | D7: =IF(A7="Exchange"," Your total 2 March 2021 B Ordinary shares base cost","") | F7: ='Share Unit Pool'!F7 -> 0
D8: =IF(A7="Exchange"," Your total 2 March 2021 Preference shares base cost","") | F8: ='Share Unit Pool'!G7 -> 0
B9: 4) Copy (using CTRL-C) and paste (CTRL-V) your share history record "Data Share Units" into the sheet of the same name in this excel. When pasting, first select cell A1, then paste. This ensures the formulas will flow to this sheet. | K9: PA (Carlyle) | L9: =COUNTIF('Data Share Units'!D:D,'START HERE'!K9) -> 0
B10: 5) If you have (partner) C Shares copy your share history record "Data C Shares" into the sheet of the same name in this excel, again taking care to into cell A1 | K10: PA (Jacobs) | L10: =COUNTIF('Data Share Units'!D:D,'START HERE'!K10) -> 0
B11: 6) Review and ensure you agree with all share entries and base cost flow in your Share Unit pool (and if applicable C share pool). This is to ensure you report the correct base cost of the shares you sold on 20 March. | L11: =SUM(L5:L10) -> 0
L12: =IF(AND(L9>0,#REF!=""),"Carlyle",IF(AND(L9>0,#REF!="Election part 3"),"Jacobs only","")) -> #REF!
B13: =IF(A7="Exchange",_xlfn._LONGTEXT("*You will have a carried forward (from the Carlyle investment period) base cost for the B Ordinary and Preference shares (Jacobs investment period) you received on 2 March 2021. If you have followed our guidance (or done you own workings) you will be abl","e to find and use your carried forward base cost values from your 2020/21 tax return workings."),"This section is not relevant to you") -> This section is not relevant to you
B14: =IF(A7="Exchange","If you have not calculated the March 2021 base costs, you can use our calcultor to help you know this.","Ignore this link: ") -> Ignore this link: | E14: March 2021 UK CGT calculator
B16: PART B - THE BASE COST OF THE SHARES YOU SOLD ON 20 MARCH 2026 (POPULATES FROM PART A)
B17: Share class | C17: # shares | D17: Total base cost
B18: B Ordinary* | C18: ='Share Unit Pool'!H83 -> 0 | D18: =IF(AND('Share Unit Pool'!$F$7<>0,'START HERE'!$C$7=0,'START HERE'!$C$8=0,'Data Share Units'!B6<>""),"Add to March 2021 worksheet your brought forward base cost",IF('Share Unit Pool'!$F$8>0,'Share Unit Pool'!I83,IF(AND('Share Unit Pool'!$F$7>0,'START HERE'!$C$7>0,'START HERE'!$C$8>0),'Share Unit Pool'!I83,IF(AND('Share Unit Pool'!F7=0,'Share Unit Pool'!F8=0),'Share Unit Pool'!I83,"")))) -> 0 | E18: If you have already worked out your base cost, you can simply overwrite the base cost numbers in blue
B19: Preference* | C19: ='Share Unit Pool'!H84 -> 0 | D19: =IF(AND('Share Unit Pool'!$F$7<>0,'START HERE'!$C$7=0,'START HERE'!$C$8=0,'Data Share Units'!B6<>""),"Add to March 2021 worksheet your brought forward base cost",IF('Share Unit Pool'!$F$8>0,'Share Unit Pool'!I84,IF(AND('Share Unit Pool'!$F$7>0,'START HERE'!$C$7>0,'START HERE'!$C$8>0),'Share Unit Pool'!I84,IF(AND('Share Unit Pool'!F7=0,'Share Unit Pool'!F8=0),'Share Unit Pool'!I84,"")))) -> 0
B20: C Ordinary | C20: ='C Share Pool'!H52 -> 0 | D20: ='C Share Pool'!I52 -> 0
B21: Totals | D21: =SUM(D18:D20) -> 0
B22: *part of the Share Unit
B25: YOUR CLOSING CONSIDERATION (value delivered on 20 March in Jacobs shares and cash paid on 1 April 2026)
B26: Share class | C26: # share sold | D26: Sale price | E26: Sale Value*
B27: B Ordinary | C27: =C18 -> 0 | D27: =IFERROR('20 March 2026 Sale'!C11/'20 March 2026 Sale'!C8,0) -> 0 | E27: =ROUND(C27*D27,2) -> 0
B28: Preference | C28: =C19 -> 0 | D28: =IFERROR('20 March 2026 Sale'!C12/'20 March 2026 Sale'!C9,0) -> 0 | E28: =ROUND(C28*D28,2) -> 0
B29: C Ordinary | C29: =C20 -> 0 | D29: =IFERROR('20 March 2026 Sale'!C13/'20 March 2026 Sale'!C10,0) -> 0 | E29: =ROUND(C29*D29,2) -> 0
D30: Total value | E30: =SUM(E27:E29) -> 0
D31: =IF(E34>0,"80% Delivered in Cash at closing","100% Delivered in cash at closing") -> 100% Delivered in cash at closing | E31: ='20 March 2026 Sale'!C17 -> 0 | F31: A
D32: 20% Delivered in Jacobs Shares at closing | E32: =E34*E33 -> 0 | F32: B
D33: Cost basis of shares issued on the Closing Date | E33: ='20 March 2026 Sale'!C20 -> 0
D34: Number of Jacobs shares received | E34: ='20 March 2026 Sale'!C19 -> 0
B36: YOUR DEFERRED CONSIDERATION (delivery in 2028) | C36: # shares sold | D36: Fixed price | E36: Deferred value
B37: B Ordinary | C37: =C27 -> 0 | D37: =IF(C37>0,E37/C37,"0") -> 0 | E37: ='20 March 2026 Sale'!C23 -> 0
B38: C Ordinary | C38: =C29 -> 0 | D38: =IF(C38>0,E38/C38,"") | E38: ='20 March 2026 Sale'!C25 -> 0
D39: Total deferred value | E39: =SUM(E37:E38) -> 0 | F39: C
B41: Did you elect to receive Purchaser Rollover notes? Or Direct Sale? | E41: ='20 March 2026 Sale'!C30 -> 0 | G41: Purchaser Notes
B43: PART B - YOUR TOTAL PA SHARES SALE VALUE | F43: YOUR TOTAL SALE CONSIDERATION | I43: Your consideration allocation to UK tax years
B44: Class | C44: # shares sold | D44: Per share | E44: Aggregate sale value | F44: Cash paid 1 April 2026 | G44: Jacobs Share value at 20 March 2026 | H44: Deferred due 20 March 2028 | I44: 2025/26 | J44: Year of Jacobs share sale | K44: Totals
B45: B Ordinary | C45: =C18 -> 0 | D45: =D27+D37 -> 0 | E45: =ROUND(C45*D45,2) -> 0 | F45: =IFERROR(F48-F47-F46,0) -> 0 | G45: =G48-G47-G46 -> 0 | H45: ='20 March 2026 Sale'!C23 -> 0 | I45: =IF($E$41=$G$41,SUM(F45,H45),E45) -> 0 | J45: =IF($E$41=$G$41,G45,0) -> 0 | K45: =I45+J45 -> 0
B46: Preference | C46: =C19 -> 0 | D46: =D28 -> 0 | E46: =ROUND(C46*D46,2) -> 0 | F46: =E46 -> 0 | I46: =IF($E$41=$G$41,SUM(F46,H46),E46) -> 0 | J46: =IF($E$41=$G$41,G46,0) -> 0 | K46: =I46+J46 -> 0
B47: C Ordinary | C47: =C20 -> 0 | D47: =IF(C29=0,0,D29+D38) -> 0 | E47: =ROUND(C47*D47,2) -> 0 | F47: =IFERROR(ROUND(E47/SUM(E47,E45)*F49,2),0) -> 0 | G47: =IFERROR(ROUND(F47/SUM(F47,F45)*G49,2),0) -> 0 | H47: ='20 March 2026 Sale'!C25 -> 0 | I47: =IF($E$41=$G$41,SUM(F47,H47),E47) -> 0 | J47: =IF($E$41=$G$41,G47,0) -> 0 | K47: =I47+J47 -> 0
B48: TOTALS | E48: =SUM(E45:E47) -> 0 | F48: ='20 March 2026 Sale'!C17 -> 0 | G48: ='20 March 2026 Sale'!C22 -> 0 | H48: =SUM(H45:H47) -> 0 | I48: =SUM(I45:I47) -> 0 | J48: =SUM(J45:J47) -> 0 | K48: =I48+J48 -> 0 | L48: =E48-K48 -> 0
...

Sheet Tax Return 2025-26
B2: 2025-26 Tax Return - Capital Gains Tax reporting
B6: Working section to determine if you need to complete the CGT pages (Not to be submitted with your return)
B8: Disposal Proceeds
B9: Sales of shares in PA Consulting Group Limited | C9: =E62 -> 0
B10: Any non-PA chargeable sales you made | C10: 0
B11: Total value of assets disposed of: | C11: =SUM(C9:C10) -> 0
B13: =IF(C11>50000,"You are required to report your disposal on your tax return as your proceeds are more than £50,000", " ")
B14: =IF(C11<50000,"If you’re not registered for Self Assessment you don’t need to do anything, you are only required to report if taxable gains more than £6,000 or elections to be made.","") -> If you’re not registered for Self Assessment you don’t need to do anything, you are only required to report if taxable gains more than £6,000 or elections to be made.
B17: Chargeable gains or losses
B18: =B9 -> Sales of shares in PA Consulting Group Limited | C18: =F62 -> 0
B19: =B10 -> Any non-PA chargeable sales you made | C19: 0
B20: Your total chargeable gains for the year: | C20: =SUM(C18:C19) -> 0
B21: Less: losses from this year:
B22: Less: brought forward losses used this year:
B23: Less: annual exempt amount | C23: -3000
B24: Taxable gain: | C24: =MAX(0,SUM(C20:C23)) -> 0
B25: Your gains tax rate: | C25: ='START HERE'!E67 -> 0.24
B26: =IF(C24>0,"You must report your gains on your tax return.","You only need report where total disposal proceeds are greater than £50,000 or elections being made.") -> You only need report where total disposal proceeds are greater than £50,000 or elections being made.
B27: =IF(C24>0,"Tax due by 31 January 2027 on your gains:","") | C27: =IF(B27="","",ROUND(C24*24%,2)) | E27: =SUM(C23,C20) -> -3000
B30: We recommend that you use the notes below if you are required to report Capital Gains on your tax return.
B32: When reporting Capital Gains on your online tax return HMRC will give you the option of using their worksheet which isn't great for reporting private company shares such as PA shares. A fully prepared worksheet is instead provided below for you.
B34: Information to be reported in the Unlisted shares and securities section
B35: Number of disposals: | E35: =COUNT(C59:C61) -> 0
B36: Disposal Proceeds: | E36: =ROUNDDOWN(E62,0) -> 0
B37: Allowable costs (including purchase price): | E37: =E36-E38 -> 0
B38: Gain in the year before losses: | E38: =ROUNDDOWN(F62,0) -> 0
B39: If you are making an claim or election, put "X" in box: | E39: Leave blank
B40: If your comp. includes estimates/ valuation, put "X" in box: | E40: Leave blank
B42: Information to be reported in the Summary of your Computations section
B43: Total gains: | E43: Automatically completed
B44: Gains Qualifying for Entrepreneur's Relief: | E44: Leave blank for PA shares
B45: Gains Invested under Seed Enterprise Investment Scheme: | E45: Leave blank for PA shares
B46: Total losses of the year: | E46: =C21 -> 0
B47: Do you want to claim to deduct losses from chargeable gains of an earlier year, to claim capital losses against your income of this tax year or the previous year or to deduct income losses of this tax year from capital gains of this tax year?: | E47: You must offset any losses against your gains in the tax year, any excess losses can be carried forward against the first available gains made in the future.
B48: Losses brought forward and used in the year: | E48: =C22 -> 0
B49: Adjustment to Capital Gains Tax: | E49: Leave blank for PA shares
B50: Additional liability in respect of non-resident or dual resident trusts: | E50: Leave blank for PA shares
B51: Deferred gains from before 23 June 2010 qualifying for Entrepreneurs Relief: | E51: Leave blank for PA shares
B52: Losses available to be carried forward to later years: | E52: =IFERROR(IF((#REF!+#REF!+C19-C21+C23)<0,(#REF!+#REF!+C19-C21),0),"-") -> -
B54: This sheet should be upload to the HMRC portal to provide the required details of your taxable gains.
...

Sheet Share Unit Pool
B1: Your PA Share Units Pool (trading is always in 1 B Ordinary and 5.6 [rounded] Preference shares)
B2: Holder name: | E2: ='Data Share Units'!B6 -> 0 | H2: After populating your 'Data Share Units' and if applicable 'Data Cshare' worksheets, you must review and amend if needed the below default entries for your base cost. This is to ensure you report the correct base cost of the shares you sold on 20 March.
B3: Holder reference: | E3: ='Data Share Units'!C6 -> 0 | H3: If you received PA shares in March 2021 through "Exchange from Carlyle period PA shares" (row 7), you must use the March 2021 worksheet to enter your brought forward base cost details
B5: Transaction | C5: Transaction ID B Ordinary | D5: Transaction ID Preference shares | E5: Date | F5: Share Unit comprised of: | H5: Cumulative shares held | K5: Transaction value per share | M5: Total Transaction value | O5: Aggregate base cost per transaction | Q5: Stamp duty purchase cost | R5: Cumulative base cost | T5: Post-transaction cumulative average base cost per share | V5: Base Cost | W5: IMPORTANT NOTES WHICH MIGHT APPLY TO YOU
F6: B Ordinary | G6: Preference shares | H6: B Ordinary | I6: Preference | J6: Market price per Unit | K6: B Ordinary | L6: Preference | M6: B Ordinary | N6: Preference | O6: B Ordinary | P6: Preference | R6: B Ordinary | S6: Preference incl Stamp duty | T6: B Ordinary | U6: Preference | V6: per Share Unit
B7: Exchange from Carlyle period PA shares | C7: 684 | D7: 685 | E7: 44257 | F7: =IFERROR(_xlfn.XLOOKUP(C7,'Data Share Units'!S:S,'Data Share Units'!G:G),0) -> 0 | G7: =IFERROR(_xlfn.XLOOKUP(D7,'Data Share Units'!T:T,'Data Share Units'!H:H),0) -> 0 | H7: =F7 -> 0 | I7: =G7 -> 0 | O7: =IFERROR(F7*T7,0) -> 0 | P7: =IFERROR(G7*U7,0) -> 0 | R7: =IF(F7>0,'START HERE'!C7,0) -> 0 | S7: =IF(G7>0,'START HERE'!C8,0) -> 0 | T7: =IFERROR(R7/H7,0) -> 0 | U7: =IFERROR(S7/I7,0) -> 0 | V7: =IFERROR((R7+S7)/H7,0) -> 0 | W7: Carlyle period shareholders received a mix of cash (taxable in 20/21 year) and new B Ordinary and Preference shares on 2 March. Tax is deferred on new shares until sale.
B8: Cash purchase ('Part 3 election') | C8: 686 | D8: 687 | E8: 44257 | F8: =IFERROR(_xlfn.XLOOKUP(C8,'Data Share Units'!S:S,'Data Share Units'!G:G),0) -> 0 | G8: =IFERROR(_xlfn.XLOOKUP(D8,'Data Share Units'!T:T,'Data Share Units'!H:H),0) -> 0 | H8: =F8+F7 -> 0 | I8: =G8+G7 -> 0 | K8: =_xlfn.XLOOKUP(C8,'Data Share Units'!S:S,'Data Share Units'!I:I,0) -> 0 | L8: =_xlfn.XLOOKUP(D8,'Data Share Units'!T:T,'Data Share Units'!J:J,0) -> 0 | M8: =IF(F8>0,F8*K8,"") | N8: =IF(G8>0,G8*L8,"") | O8: =IFERROR(F8*0.05,0) -> 0 | P8: =IFERROR(G8*1,0) -> 0 | R8: =IF(F8>0,R7+K8*F8,R7) -> 0 | S8: =IF(G8>0,S7+L8*G8,S7) -> 0 | T8: =IFERROR(R8/H8,0) -> 0 | U8: =IFERROR(S8/I8,0) -> 0 | V8: =IFERROR((R8+S8)/H8,0) -> 0 | W8: If you took the 'Part 3 election' you received 100% cash for your legacy Carlyle period shares and invested part of this cash into new B and Ordinary shares. Your base cost is then £0.05 per B Ordinary and £1.00 per Preference share.
B9: 2021/22 Tax year
B10: =IF(F10<0,"Transfer to Spouse",IF(F10>0,"Transfer from spouse","Transfer")) -> Transfer | C10: 693 | D10: 694 | E10: 44294 | F10: =IFERROR(_xlfn.XLOOKUP(C10,'Data Share Units'!S:S,'Data Share Units'!G:G),0) -> 0 | G10: =IFERROR(_xlfn.XLOOKUP(D10,'Data Share Units'!T:T,'Data Share Units'!H:H),0) -> 0 | H10: =IFERROR(H8+F10,0) -> 0 | I10: =IFERROR(I8+G10,0) -> 0 | J10: 5.65 | O10: =IF(F10>0,"Enter Value",IFERROR(F10*T8,0)) -> 0 | P10: =IF(G10>0,"Enter Value",IFERROR(G10*U8,0)) -> 0 | R10: =IF(F10>0,R8+O10,IF(F10<0,R8+F10*T8,IF(O10=0,R8))) -> 0 | S10: =IF(G10>0,S8+P10+Q10,IF(G10<0,S8+G10*U8,IF(P10=0,S8))) -> 0 | T10: =IFERROR(R10/H10,0) -> 0 | U10: =IFERROR(S10/I10,0) -> 0 | V10: =IFERROR((R10+S10)/H10,0) -> 0 | W10: Gifts of shares to spouses take with them the average base cost of the shares held by the Transferor. Spouse should include the highlighted bold aggregate base cost in their own CGT calculation
B11: Earnout consideration | C11: 689 | D11: 690 | E11: 44309 | F11: =IFERROR(_xlfn.XLOOKUP(C11,'Data Share Units'!S:S,'Data Share Units'!G:G),0) -> 0 | G11: =IFERROR(_xlfn.XLOOKUP(D11,'Data Share Units'!T:T,'Data Share Units'!H:H),0) -> 0 | H11: =IFERROR(H10+F11,0) -> 0 | I11: =IFERROR(I10+G11,0) -> 0 | J11: 5.65 | O11: =IF(F11>0,"Enter Value",IFERROR(F11*T9,0)) -> 0 | P11: =IF(G11>0,"Enter Value",IFERROR(G11*U9,0)) -> 0 | Q11: =IFERROR(IF((O11+P11)>1000,CEILING((O11+P11)*0.005,5),0),"") -> 0 | R11: =IF(F11>0,R10+O11,IF(F11<0,R10+F11*T10,IF(O11=0,R10))) -> 0 | S11: =IF(G11>0,S10+P11+Q11,IF(G11<0,S10+G11*U10,IF(P11=0,S10))) -> 0 | T11: =IFERROR(R11/H11,0) -> 0 | U11: =IFERROR(S11/I11,0) -> 0 | V11: =IFERROR((R11+S11)/H11,0) -> 0
B12: Material shareholders sale | C12: 691 | D12: 692 | E12: 44309 | F12: =IFERROR(_xlfn.XLOOKUP(C12,'Data Share Units'!S:S,'Data Share Units'!G:G),0) -> 0 | G12: =IFERROR(_xlfn.XLOOKUP(D12,'Data Share Units'!T:T,'Data Share Units'!H:H),0) -> 0 | H12: =IFERROR(H11+F12,0) -> 0 | I12: =IFERROR(I11+G12,0) -> 0 | J12: 5.65 | K12: =_xlfn.XLOOKUP(C12,'Data Share Units'!S:S,'Data Share Units'!I:I,0) -> 0 | L12: =_xlfn.XLOOKUP(D12,'Data Share Units'!T:T,'Data Share Units'!J:J,0) -> 0 | M12: =IFERROR(K12*F12,0) -> 0 | N12: =IFERROR(L12*G12,0) -> 0 | O12: =IFERROR(F12*T11,0) -> 0 | P12: =IFERROR(G12*U11,0) -> 0 | R12: =IF(F12>0,R11+O12,IF(F12<0,R11+F12*T11,IF(O12=0,R11))) -> 0 | S12: =IF(G12>0,S11+P12+Q12,IF(G12<0,S11+G12*U11,IF(P12=0,S11))) -> 0 | T12: =IFERROR(R12/H12,0) -> 0 | U12: =IFERROR(S12/I12,0) -> 0 | V12: =IFERROR((R12+S12)/H12,0) -> 0
B13: Market Purchase | C13: 695 | D13: 696 | E13: 44344 | F13: =IFERROR(_xlfn.XLOOKUP(C13,'Data Share Units'!S:S,'Data Share Units'!G:G),0) -> 0 | G13: =IFERROR(_xlfn.XLOOKUP(D13,'Data Share Units'!T:T,'Data Share Units'!H:H),0) -> 0 | H13: =IFERROR(H12+F13,0) -> 0 | I13: =IFERROR(I12+G13,0) -> 0 | J13: 5.65 | K13: =_xlfn.XLOOKUP(C13,'Data Share Units'!S:S,'Data Share Units'!I:I,0) -> 0 | L13: =_xlfn.XLOOKUP(D13,'Data Share Units'!T:T,'Data Share Units'!J:J,0) -> 0 | M13: =IFERROR(K13*F13,0) -> 0 | N13: =IFERROR(L13*G13,0) -> 0 | O13: =M13 -> 0 | P13: =N13 -> 0 | Q13: =IFERROR(IF((O13+P13)>1000,CEILING((O13+P13)*0.005,5),0),"") -> 0 | R13: =IF(F13>0,R12+O13,IF(F13<0,R12+F13*T12,IF(O13=0,R12))) -> 0 | S13: =IF(G13>0,S12+P13+Q13,IF(G13<0,S12+G13*U12,IF(P13=0,S12))) -> 0 | T13: =IFERROR(R13/H13,0) -> 0 | U13: =IFERROR(S13/I13,0) -> 0 | V13: =IFERROR((R13+S13)/H13,0) -> 0
B14: Share Award | C14: 697 | D14: 698 | E14: 44344 | F14: =IFERROR(_xlfn.XLOOKUP(C14,'Data Share Units'!S:S,'Data Share Units'!G:G),0) -> 0 | G14: =IFERROR(_xlfn.XLOOKUP(D14,'Data Share Units'!T:T,'Data Share Units'!H:H),0) -> 0 | H14: =IFERROR(H13+F14,0) -> 0 | I14: =IFERROR(I13+G14,0) -> 0 | J14: 5.65 | K14: =_xlfn.XLOOKUP(C14,'Data Share Units'!S:S,'Data Share Units'!I:I,0) -> 0 | L14: =_xlfn.XLOOKUP(D14,'Data Share Units'!T:T,'Data Share Units'!J:J,0) -> 0 | M14: =IFERROR(K14*F14,0) -> 0 | N14: =IFERROR(L14*G14,0) -> 0 | O14: =M14 -> 0 | P14: =N14 -> 0 | Q14: =IFERROR(IF((O14+P14)>1000,CEILING((O14+P14)*0.005,5),0),"") -> 0 | R14: =IF(F14>0,R13+O14,IF(F14<0,R13+F14*T13,IF(O14=0,R13))) -> 0 | S14: =IF(G14>0,S13+P14+Q14,IF(G14<0,S13+G14*U13,IF(P14=0,S13))) -> 0 | T14: =IFERROR(R14/H14,0) -> 0 | U14: =IFERROR(S14/I14,0) -> 0 | V14: =IFERROR((R14+S14)/H14,0) -> 0
B15: Market Sale | C15: 699 | D15: 700 | E15: 44344 | F15: =IFERROR(_xlfn.XLOOKUP(C15,'Data Share Units'!S:S,'Data Share Units'!G:G),0) -> 0 | G15: =IFERROR(_xlfn.XLOOKUP(D15,'Data Share Units'!T:T,'Data Share Units'!H:H),0) -> 0 | H15: =IFERROR(H14+F15,0) -> 0 | I15: =IFERROR(I14+G15,0) -> 0 | J15: 5.65 | K15: =_xlfn.XLOOKUP(C15,'Data Share Units'!S:S,'Data Share Units'!I:I,0) -> 0 | L15: =_xlfn.XLOOKUP(D15,'Data Share Units'!T:T,'Data Share Units'!J:J,0) -> 0 | M15: =IFERROR(K15*F15,0) -> 0 | N15: =IFERROR(L15*G15,0) -> 0 | O15: =IFERROR(F15*T14,0) -> 0 | P15: =G15*U14 -> 0 | R15: =IFERROR(R14+O15,0) -> 0 | S15: =IFERROR(S14+P15,0) -> 0 | T15: =IFERROR(R15/H15,0) -> 0 | U15: =IFERROR(S15/I15,0) -> 0 | V15: =IFERROR((R15+S15)/H15,0) -> 0
B16: Purchase | C16: 701 | D16: 702 | E16: 44370 | F16: =IFERROR(_xlfn.XLOOKUP(C16,'Data Share Units'!S:S,'Data Share Units'!G:G),0) -> 0 | G16: =IFERROR(_xlfn.XLOOKUP(D16,'Data Share Units'!T:T,'Data Share Units'!H:H),0) -> 0 | H16: =IFERROR(H15+F16,0) -> 0 | I16: =IFERROR(I15+G16,0) -> 0 | J16: 5.65 | K16: =_xlfn.XLOOKUP(C16,'Data Share Units'!S:S,'Data Share Units'!I:I,0) -> 0 | L16: =_xlfn.XLOOKUP(D16,'Data Share Units'!T:T,'Data Share Units'!J:J,0) -> 0 | M16: =IFERROR(K16*F16,0) -> 0 | N16: =IFERROR(L16*G16,0) -> 0 | O16: =IFERROR(F16*T15,0) -> 0 | P16: =IFERROR(G16*U15,0) -> 0 | Q16: =IFERROR(IF((O16+P16)>1000,CEILING((O16+P16)*0.005,5),0),"") -> 0 | R16: =IF(F16=0,R15+O16,(R15+O16+(Q16*F16/(F16+G16)))) -> 0 | S16: =IF(G16=0,S15+P16,(S15+P16+(Q16*G16/(G16+F16)))) -> 0 | T16: =IFERROR(R16/H16,0) -> 0 | U16: =IFERROR(S16/I16,0) -> 0 | V16: =IFERROR((R16+S16)/H16,0) -> 0
B17: Sale | C17: 703 | D17: 704 | E17: 44370 | F17: =IFERROR(_xlfn.XLOOKUP(C17,'Data Share Units'!S:S,'Data Share Units'!G:G),0) -> 0 | G17: =IFERROR(_xlfn.XLOOKUP(D17,'Data Share Units'!T:T,'Data Share Units'!H:H),0) -> 0 | H17: =IFERROR(H16+F17,0) -> 0 | I17: =IFERROR(I16+G17,0) -> 0 | J17: 5.65 | K17: =_xlfn.XLOOKUP(C17,'Data Share Units'!S:S,'Data Share Units'!I:I,0) -> 0 | L17: =_xlfn.XLOOKUP(D17,'Data Share Units'!T:T,'Data Share Units'!J:J,0) -> 0 | M17: =IFERROR(K17*F17,0) -> 0 | N17: =IFERROR(L17*G17,0) -> 0 | O17: =IFERROR(F17*T16,0) -> 0 | P17: =G17*U16 -> 0 | R17: =IFERROR(R16+O17,0) -> 0 | S17: =IFERROR(S16+P17,0) -> 0 | T17: =IFERROR(R17/H17,0) -> 0 | U17: =IFERROR(S17/I17,0) -> 0 | V17: =IFERROR((R17+S17)/H17,0) -> 0
B18: =IF(F18<0,"Transfer to Spouse",IF(F18>0,"Transfer from spouse","Transfer")) -> Transfer | C18: 706 | D18: 707 | E18: 44418 | F18: =IFERROR(_xlfn.XLOOKUP(C18,'Data Share Units'!S:S,'Data Share Units'!G:G),0) -> 0 | G18: =IFERROR(_xlfn.XLOOKUP(D18,'Data Share Units'!T:T,'Data Share Units'!H:H),0) -> 0 | H18: =IFERROR(H17+F18,0) -> 0 | I18: =IFERROR(I17+G18,0) -> 0 | J18: 5.65 | O18: =IF(F18>0,"Enter Value",F18*T17) -> 0 | P18: =IF(G18>0,"Enter Value",G18*U17) -> 0 | R18: =IFERROR(R17+O18,0) -> 0 | S18: =IFERROR(S17+P18,0) -> 0 | T18: =IFERROR(R18/H18,0) -> 0 | U18: =IFERROR(S18/I18,0) -> 0 | V18: =IFERROR((R18+S18)/H18,0) -> 0 | W18: Gifts of shares to spouses take with them the average base cost of the shares held by the Transferor. Spouse should include the highlighted bold aggregate base cost in their own CGT calculation
B19: Sale | C19: 709 | D19: 710 | E19: 44540 | F19: =IFERROR(_xlfn.XLOOKUP(C19,'Data Share Units'!S:S,'Data Share Units'!G:G),0) -> 0 | G19: =IFERROR(_xlfn.XLOOKUP(D19,'Data Share Units'!T:T,'Data Share Units'!H:H),0) -> 0 | H19: =IFERROR(H18+F19,0) -> 0 | I19: =IFERROR(I18+G19,0) -> 0 | J19: 5.65 | K19: =_xlfn.XLOOKUP(C19,'Data Share Units'!S:S,'Data Share Units'!I:I,0) -> 0 | L19: =_xlfn.XLOOKUP(D19,'Data Share Units'!T:T,'Data Share Units'!J:J,0) -> 0 | M19: =IFERROR(-K19*F19,0) -> 0 | N19: =IFERROR(-L19*G19,0) -> 0 | O19: =F19*T18 -> 0 | P19: =G19*U18 -> 0 | R19: =IFERROR(R18+O19,0) -> 0 | S19: =IFERROR(S18+P19,0) -> 0 | T19: =IFERROR(R19/H19,0) -> 0 | U19: =IFERROR(S19/I19,0) -> 0 | V19: =IFERROR((R19+S19)/H19,0) -> 0
B20: =IF(F20<0,"Transfer to Spouse",IF(F20>0,"Transfer from spouse","Transfer")) -> Transfer | C20: 717 | D20: 718 | E20: 44553 | F20: =IFERROR(_xlfn.XLOOKUP(C20,'Data Share Units'!S:S,'Data Share Units'!G:G),0) -> 0 | G20: =IFERROR(_xlfn.XLOOKUP(D20,'Data Share Units'!T:T,'Data Share Units'!H:H),0) -> 0 | H20: =IFERROR(H19+F20,0) -> 0 | I20: =IFERROR(I19+G20,0) -> 0 | J20: 5.65 | O20: =IF(F20>0,"Enter Value",F20*T19) -> 0 | P20: =IF(G20>0,"Enter Value",G20*U19) -> 0 | R20: =IFERROR(R19+O20,0) -> 0 | S20: =IFERROR(S19+P20,0) -> 0 | T20: =IFERROR(R20/H20,0) -> 0 | U20: =IFERROR(S20/I20,0) -> 0 | V20: =IFERROR((R20+S20)/H20,0) -> 0 | W20: Gifts of shares to spouses take with them the average base cost of the shares held by the Transferor. Spouse should include the highlighted bold aggregate base cost in their own CGT calculation
B21: =IF(F21<0,"Transfer to Spouse",IF(F21>0,"Transfer from spouse","Transfer")) -> Transfer | C21: 720 | D21: 721 | E21: 44624 | F21: =IFERROR(_xlfn.XLOOKUP(C21,'Data Share Units'!S:S,'Data Share Units'!G:G),0) -> 0 | G21: =IFERROR(_xlfn.XLOOKUP(D21,'Data Share Units'!T:T,'Data Share Units'!H:H),0) -> 0 | H21: =IFERROR(H20+F21,0) -> 0 | I21: =IFERROR(I20+G21,0) -> 0 | J21: 5.65 | O21: =IF(F21>0,"Enter Value",F21*T20) -> 0 | P21: =IF(G21>0,"Enter Value",G21*U20) -> 0 | R21: =IFERROR(R20+O21,0) -> 0 | S21: =IFERROR(S20+P21,0) -> 0 | T21: =IFERROR(R21/H21,0) -> 0 | U21: =IFERROR(S21/I21,0) -> 0 | V21: =IFERROR((R21+S21)/H21,0) -> 0 | W21: Gifts of shares to spouses take with them the average base cost of the shares held by the Transferor. Spouse should include the highlighted bold aggregate base cost in their own CGT calculation
B22: 2022/23 Tax year
B23: Market Purchase | C23: 723 | D23: 724 | E23: 44693 | F23: =IFERROR(_xlfn.XLOOKUP(C23,'Data Share Units'!S:S,'Data Share Units'!G:G),0) -> 0 | G23: =IFERROR(_xlfn.XLOOKUP(D23,'Data Share Units'!T:T,'Data Share Units'!H:H),0) -> 0 | H23: =IFERROR(H21+F23,"") -> 0 | I23: =IFERROR(I21+G23,"") -> 0 | J23: 6.58 | K23: =_xlfn.XLOOKUP(C23,'Data Share Units'!S:S,'Data Share Units'!I:I,0) -> 0 | L23: =_xlfn.XLOOKUP(D23,'Data Share Units'!T:T,'Data Share Units'!J:J,0) -> 0 | M23: =IFERROR(K23*F23,"") -> 0 | N23: =IFERROR(G23*L23,"") -> 0 | O23: =M23 -> 0 | P23: =N23 -> 0 | Q23: =IFERROR(IF((O23+P23)>1000,CEILING((O23+P23)*0.005,5),0),"") -> 0 | R23: =IF(F23>0,R21+O23,IF(F23<0,R21+F23*T21,IF(O23=0,R21))) -> 0 | S23: =IF(G23>0,S21+P23+Q23,IF(G23<0,S21+G23*U21,IF(P23=0,S21))) -> 0 | T23: =IFERROR(R23/H23,0) -> 0 | U23: =IFERROR(S23/I23,0) -> 0 | V23: =IFERROR((R23+S23)/H23,0) -> 0
B24: Share Award | C24: 727 | D24: 728 | E24: 44693 | F24: =IFERROR(_xlfn.XLOOKUP(C24,'Data Share Units'!S:S,'Data Share Units'!G:G),0) -> 0 | G24: =IFERROR(_xlfn.XLOOKUP(D24,'Data Share Units'!T:T,'Data Share Units'!H:H),0) -> 0 | H24: =IFERROR(H23+F24,"") -> 0 | I24: =IFERROR(I23+G24,"") -> 0 | J24: 6.58 | K24: =_xlfn.XLOOKUP(C24,'Data Share Units'!S:S,'Data Share Units'!I:I,0) -> 0 | L24: =_xlfn.XLOOKUP(D24,'Data Share Units'!T:T,'Data Share Units'!J:J,0) -> 0 | M24: =IFERROR(K24*F24,"") -> 0 | N24: =IFERROR(G24*L24,"") -> 0 | O24: =M24 -> 0 | P24: =N24 -> 0 | Q24: =IFERROR(IF((O24+P24)>1000,CEILING((O24+P24)*0.005,5),0),"") -> 0 | R24: =IF(F24>0,R23+O24,IF(F24<0,R23+F24*T23,IF(O24=0,R23))) -> 0 | S24: =IF(G24>0,S23+P24+Q24,IF(G24<0,S23+G24*U23,IF(P24=0,S23))) -> 0 | T24: =IFERROR(R24/H24,0) -> 0 | U24: =IFERROR(S24/I24,0) -> 0 | V24: =IFERROR((R24+S24)/H24,0) -> 0
B25: Earnout | C25: 729 | D25: 730 | E25: 44693 | F25: =IFERROR(_xlfn.XLOOKUP(C25,'Data Share Units'!S:S,'Data Share Units'!G:G),0) -> 0 | G25: =IFERROR(_xlfn.XLOOKUP(D25,'Data Share Units'!T:T,'Data Share Units'!H:H),0) -> 0 | H25: =IFERROR(H24+F25,"") -> 0 | I25: =IFERROR(I24+G25,"") -> 0 | J25: 6.58 | K25: =_xlfn.XLOOKUP(C25,'Data Share Units'!S:S,'Data Share Units'!I:I,0) -> 0 | L25: =_xlfn.XLOOKUP(D25,'Data Share Units'!T:T,'Data Share Units'!J:J,0) -> 0 | M25: =IFERROR(K25*F25,"") -> 0 | N25: =IFERROR(G25*L25,"") -> 0 | O25: =M25 -> 0 | P25: =N25 -> 0 | Q25: =IFERROR(IF((O25+P25)>1000,CEILING((O25+P25)*0.005,5),0),"") -> 0 | R25: =IF(F25>0,R24+O25,IF(F25<0,R24+F25*T24,IF(O25=0,R24))) -> 0 | S25: =IF(G25>0,S24+P25+Q25,IF(G25<0,S24+G25*U24,IF(P25=0,S24))) -> 0 | T25: =IFERROR(R25/H25,0) -> 0 | U25: =IFERROR(S25/I25,0) -> 0 | V25: =IFERROR((R25+S25)/H25,0) -> 0
B26: Market Sale | C26: 725 | D26: 726 | E26: 44693 | F26: =IFERROR(_xlfn.XLOOKUP(C26,'Data Share Units'!S:S,'Data Share Units'!G:G),0) -> 0 | G26: =IFERROR(_xlfn.XLOOKUP(D26,'Data Share Units'!T:T,'Data Share Units'!H:H),0) -> 0 | H26: =IFERROR(H25+F26,"") -> 0 | I26: =IFERROR(I25+G26,"") -> 0 | J26: 6.58 | K26: =_xlfn.XLOOKUP(C26,'Data Share Units'!S:S,'Data Share Units'!I:I,0) -> 0 | L26: =_xlfn.XLOOKUP(D26,'Data Share Units'!T:T,'Data Share Units'!J:J,0) -> 0 | M26: =IFERROR(K26*F26,"") -> 0 | N26: =IFERROR(G26*L26,"") -> 0 | O26: =F26*T25 -> 0 | P26: =G26*U25 -> 0 | R26: =IF(F26>0,R25+O26,IF(F26<0,R25+F26*T25,IF(O26=0,R25))) -> 0 | S26: =IF(G26>0,S25+P26+Q26,IF(G26<0,S25+G26*U25,IF(P26=0,S25))) -> 0 | T26: =IFERROR(R26/H26,0) -> 0 | U26: =IFERROR(S26/I26,0) -> 0 | V26: =IFERROR((R26+S26)/H26,0) -> 0
B27: Sale | C27: 731 | D27: 732 | E27: 44693 | F27: =IFERROR(_xlfn.XLOOKUP(C27,'Data Share Units'!S:S,'Data Share Units'!G:G),0) -> 0 | G27: =IFERROR(_xlfn.XLOOKUP(D27,'Data Share Units'!T:T,'Data Share Units'!H:H),0) -> 0 | H27: =IFERROR(H26+F27,"") -> 0 | I27: =IFERROR(I26+G27,"") -> 0 | J27: 6.58 | K27: =_xlfn.XLOOKUP(C27,'Data Share Units'!S:S,'Data Share Units'!I:I,0) -> 0 | L27: =_xlfn.XLOOKUP(D27,'Data Share Units'!T:T,'Data Share Units'!J:J,0) -> 0 | M27: =IFERROR(K27*F27,"") -> 0 | N27: =IFERROR(G27*L27,"") -> 0 | O27: =F27*T26 -> 0 | P27: =G27*U26 -> 0 | R27: =IF(F27>0,R26+O27,IF(F27<0,R26+F27*T26,IF(O27=0,R26))) -> 0 | S27: =IF(G27>0,S26+P27+Q27,IF(G27<0,S26+G27*U26,IF(P27=0,S26))) -> 0 | T27: =IFERROR(R27/H27,0) -> 0 | U27: =IFERROR(S27/I27,0) -> 0 | V27: =IFERROR((R27+S27)/H27,0) -> 0
B28: Purchase | C28: 733 | D28: 734 | E28: 44734 | F28: =IFERROR(_xlfn.XLOOKUP(C28,'Data Share Units'!S:S,'Data Share Units'!G:G),0) -> 0 | G28: =IFERROR(_xlfn.XLOOKUP(D28,'Data Share Units'!T:T,'Data Share Units'!H:H),0) -> 0 | H28: =IFERROR(H27+F28,"") -> 0 | I28: =IFERROR(I27+G28,"") -> 0 | J28: 6.58 | K28: =_xlfn.XLOOKUP(C28,'Data Share Units'!S:S,'Data Share Units'!I:I,0) -> 0 | L28: =_xlfn.XLOOKUP(D28,'Data Share Units'!T:T,'Data Share Units'!J:J,0) -> 0 | M28: =IFERROR(K28*F28,0) -> 0 | N28: =IFERROR(L28*G28,0) -> 0 | O28: =M28 -> 0 | P28: =N28 -> 0 | Q28: =IFERROR(IF((O28+P28)>1000,CEILING((O28+P28)*0.005,5),0),"") -> 0 | R28: =IF(F28>0,R27+O28,IF(F28<0,R27+F28*T27,IF(O28=0,R27))) -> 0 | S28: =IF(G28>0,S27+P28+Q28,IF(G28<0,S27+G28*U27,IF(P28=0,S27))) -> 0 | T28: =IFERROR(R28/H28,0) -> 0 | U28: =IFERROR(S28/I28,0) -> 0 | V28: =IFERROR((R28+S28)/H28,0) -> 0
B29: Sale | C29: 735 | D29: 736 | E29: 44734 | F29: =IFERROR(_xlfn.XLOOKUP(C29,'Data Share Units'!S:S,'Data Share Units'!G:G),0) -> 0 | G29: =IFERROR(_xlfn.XLOOKUP(D29,'Data Share Units'!T:T,'Data Share Units'!H:H),0) -> 0 | H29: =IFERROR(H28+F29,"") -> 0 | I29: =IFERROR(I28+G29,"") -> 0 | J29: 6.58 | K29: =_xlfn.XLOOKUP(C29,'Data Share Units'!S:S,'Data Share Units'!I:I,0) -> 0 | L29: =_xlfn.XLOOKUP(D29,'Data Share Units'!T:T,'Data Share Units'!J:J,0) -> 0 | M29: =IFERROR(-K29*F29,0) -> 0 | N29: =IFERROR(-L29*G29,0) -> 0 | O29: =F29*T28 -> 0 | P29: =G29*U28 -> 0 | R29: =IF(F29>0,R28+O29,IF(F29<0,R28+F29*T28,IF(O29=0,R28))) -> 0 | S29: =IF(G29>0,S28+P29+Q29,IF(G29<0,S28+G29*U28,IF(P29=0,S28))) -> 0 | T29: =IFERROR(R29/H29,0) -> 0 | U29: =IFERROR(S29/I29,0) -> 0 | V29: =IFERROR((R29+S29)/H29,0) -> 0
B30: =IF(F30<0,"Transfer to Spouse",IF(F30>0,"Transfer from spouse","Transfer")) -> Transfer | C30: 739 | D30: 740 | E30: 44753 | F30: =IFERROR(_xlfn.XLOOKUP(C30,'Data Share Units'!S:S,'Data Share Units'!G:G),0) -> 0 | G30: =IFERROR(_xlfn.XLOOKUP(D30,'Data Share Units'!T:T,'Data Share Units'!H:H),0) -> 0 | H30: =IFERROR(H29+F30,"") -> 0 | I30: =IFERROR(I29+G30,"") -> 0 | J30: 6.58 | O30: =IF(F30>0,"Enter Value",F30*T29) -> 0 | P30: =IF(G30>0,"Enter Value",G30*U29) -> 0 | R30: =IF(F30>0,R29+O30,IF(F30<0,R29+F30*T29,IF(O30=0,R29))) -> 0 | S30: =IF(G30>0,S29+P30+Q30,IF(G30<0,S29+G30*U29,IF(P30=0,S29))) -> 0 | T30: =IFERROR(R30/H30,0) -> 0 | U30: =IFERROR(S30/I30,0) -> 0 | V30: =IFERROR((R30+S30)/H30,0) -> 0 | W30: Gifts of shares to spouses take with them the average base cost of the shares held by the Transferor. Spouse should include the highlighted bold aggregate base cost in their own CGT calculation
B31: =IF(F31<0,"Transfer to Spouse",IF(F31>0,"Transfer from spouse","Transfer")) -> Transfer | C31: 742 | D31: 743 | E31: 44876 | F31: =IFERROR(_xlfn.XLOOKUP(C31,'Data Share Units'!S:S,'Data Share Units'!G:G),0) -> 0 | G31: =IFERROR(_xlfn.XLOOKUP(D31,'Data Share Units'!T:T,'Data Share Units'!H:H),0) -> 0 | H31: =IFERROR(H30+F31,"") -> 0 | I31: =IFERROR(I30+G31,"") -> 0 | J31: 6.58 | O31: =IF(F31>0,"Enter Value",F31*T30) -> 0 | P31: =IF(G31>0,"Enter Value",G31*U30) -> 0 | R31: =IF(F31>0,R30+O31,IF(F31<0,R30+F31*T30,IF(O31=0,R30))) -> 0 | S31: =IF(G31>0,S30+P31+Q31,IF(G31<0,S30+G31*U30,IF(P31=0,S30))) -> 0 | T31: =IFERROR(R31/H31,0) -> 0 | U31: =IFERROR(S31/I31,0) -> 0 | V31: =IFERROR((R31+S31)/H31,0) -> 0 | W31: Gifts of shares to spouses take with them the average base cost of the shares held by the Transferor. Spouse should include the highlighted bold aggregate base cost in their own CGT calculation
B32: Sale | C32: 745 | D32: 746 | E32: 44910 | F32: =IFERROR(_xlfn.XLOOKUP(C32,'Data Share Units'!S:S,'Data Share Units'!G:G),0) -> 0 | G32: =IFERROR(_xlfn.XLOOKUP(D32,'Data Share Units'!T:T,'Data Share Units'!H:H),0) -> 0 | H32: =IFERROR(H31+F32,"") -> 0 | I32: =IFERROR(I31+G32,"") -> 0 | J32: 6.58 | K32: =_xlfn.XLOOKUP(C32,'Data Share Units'!S:S,'Data Share Units'!I:I,0) -> 0 | L32: =_xlfn.XLOOKUP(D32,'Data Share Units'!T:T,'Data Share Units'!J:J,0) -> 0 | M32: =IFERROR(_xlfn.XLOOKUP(C32,#REF!,#REF!),0)*-1 -> 0 | N32: =IFERROR(_xlfn.XLOOKUP(D32,#REF!,#REF!),0)*-1 -> 0 | O32: =IF(F32>0,"Enter Value",F32*T31) -> 0 | P32: =IF(G32>0,"Enter Value",G32*U31) -> 0 | R32: =IF(F32>0,R31+O32,IF(F32<0,R31+F32*T31,IF(O32=0,R31))) -> 0 | S32: =IF(G32>0,S31+P32+Q32,IF(G32<0,S31+G32*U31,IF(P32=0,S31))) -> 0 | T32: =IFERROR(R32/H32,0) -> 0 | U32: =IFERROR(S32/I32,0) -> 0 | V32: =IFERROR((R32+S32)/H32,0) -> 0
B33: =IF(F33<0,"Transfer to Spouse",IF(F33>0,"Transfer from spouse","Transfer")) -> Transfer | C33: 751 | D33: 752 | E33: 44965 | F33: =IFERROR(_xlfn.XLOOKUP(C33,'Data Share Units'!S:S,'Data Share Units'!G:G),0) -> 0 | G33: =IFERROR(_xlfn.XLOOKUP(D33,'Data Share Units'!T:T,'Data Share Units'!H:H),0) -> 0 | H33: =IFERROR(H32+F33,"") -> 0 | I33: =IFERROR(I32+G33,"") -> 0 | J33: 6.58 | O33: =IF(F33>0,"Enter Value",F33*T32) -> 0 | P33: =IF(G33>0,"Enter Value",G33*U32) -> 0 | R33: =IF(F33>0,R32+O33,IF(F33<0,R32+F33*T32,IF(O33=0,R32))) -> 0 | S33: =IF(G33>0,S32+P33+Q33,IF(G33<0,S32+G33*U32,IF(P33=0,S32))) -> 0 | T33: =IFERROR(R33/H33,0) -> 0 | U33: =IFERROR(S33/I33,0) -> 0 | V33: =IFERROR((R33+S33)/H33,0) -> 0 | W33: Gifts of shares to spouses take with them the average base cost of the shares held by the Transferor. Spouse should include the highlighted bold aggregate base cost in their own CGT calculation
B34: Transfer | C34: 755 | D34: 756 | E34: 44993 | F34: =IFERROR(_xlfn.XLOOKUP(C34,'Data Share Units'!S:S,'Data Share Units'!G:G),0) -> 0 | G34: =IFERROR(_xlfn.XLOOKUP(D34,'Data Share Units'!T:T,'Data Share Units'!H:H),0) -> 0 | H34: =IFERROR(H33+F34,"") -> 0 | I34: =IFERROR(I33+G34,"") -> 0 | J34: 6.58 | O34: =IF(F34>0,"Enter Value",F34*T33) -> 0 | P34: =IF(G34>0,"Enter Value",G34*U33) -> 0 | R34: =IF(F34>0,R33+O34,IF(F34<0,R33+F34*T33,IF(O34=0,R33))) -> 0 | S34: =IF(G34>0,S33+P34+Q34,IF(G34<0,S33+G34*U33,IF(P34=0,S33))) -> 0 | T34: =IFERROR(R34/H34,0) -> 0 | U34: =IFERROR(S34/I34,0) -> 0 | V34: =IFERROR((R34+S34)/H34,0) -> 0 | W34: Gifts of shares to spouses take with them the average base cost of the shares held by the Transferor. Spouse should include the highlighted bold aggregate base cost in their own CGT calculation
B35: Transfer | C35: 757 | D35: 758 | E35: 45016 | F35: =IFERROR(_xlfn.XLOOKUP(C35,'Data Share Units'!S:S,'Data Share Units'!G:G),0) -> 0 | G35: =IFERROR(_xlfn.XLOOKUP(D35,'Data Share Units'!T:T,'Data Share Units'!H:H),0) -> 0 | H35: =IFERROR(H34+F35,"") -> 0 | I35: =IFERROR(I34+G35,"") -> 0 | J35: 6.58 | O35: =IF(F35>0,"Enter Value",F35*T34) -> 0 | P35: =IF(G35>0,"Enter Value",G35*U34) -> 0 | R35: =IF(F35>0,R34+O35,IF(F35<0,R34+F35*T34,IF(O35=0,R34))) -> 0 | S35: =IF(G35>0,S34+P35+Q35,IF(G35<0,S34+G35*U34,IF(P35=0,S34))) -> 0 | T35: =IFERROR(R35/H35,0) -> 0 | U35: =IFERROR(S35/I35,0) -> 0 | V35: =IFERROR((R35+S35)/H35,0) -> 0 | W35: Gifts of shares to spouses take with them the average base cost of the shares held by the Transferor. Spouse should include the highlighted bold aggregate base cost in their own CGT calculation
B36: 2023/24 Tax year
B37: Market Purchase | C37: 760 | D37: 761 | E37: 45065 | F37: =IFERROR(_xlfn.XLOOKUP(C37,'Data Share Units'!S:S,'Data Share Units'!G:G),0) -> 0 | G37: =IFERROR(_xlfn.XLOOKUP(D37,'Data Share Units'!T:T,'Data Share Units'!H:H),0) -> 0 | H37: =IFERROR(H35+F37,"") -> 0 | I37: =IFERROR(I35+G37,"") -> 0 | J37: 7.4 | K37: =_xlfn.XLOOKUP(C37,'Data Share Units'!S:S,'Data Share Units'!I:I,0) -> 0 | L37: =_xlfn.XLOOKUP(D37,'Data Share Units'!T:T,'Data Share Units'!J:J,0) -> 0 | M37: =IFERROR(K37*F37,"") -> 0 | N37: =IFERROR(G37*L37,"") -> 0 | O37: =M37 -> 0 | P37: =N37 -> 0 | Q37: =IFERROR(IF((O37+P37)>1000,CEILING((O37+P37)*0.005,5),0),"") -> 0 | R37: =IF(F37>0,R35+O37,IF(F37<0,R35+F37*T35,IF(O37=0,R35))) -> 0 | S37: =IF(G37>0,S35+P37+Q37,IF(G37<0,S35+G37*U35,IF(P37=0,S35))) -> 0 | T37: =IFERROR(R37/H37,0) -> 0 | U37: =IFERROR(S37/I37,0) -> 0 | V37: =IFERROR((R37+S37)/H37,0) -> 0
B38: Sale | C38: 762 | D38: 763 | E38: 45065 | F38: =IFERROR(_xlfn.XLOOKUP(C38,'Data Share Units'!S:S,'Data Share Units'!G:G),0) -> 0 | G38: =IFERROR(_xlfn.XLOOKUP(D38,'Data Share Units'!T:T,'Data Share Units'!H:H),0) -> 0 | H38: =IFERROR(H37+F38,"") -> 0 | I38: =IFERROR(I37+G38,"") -> 0 | J38: 7.4 | K38: =_xlfn.XLOOKUP(C38,'Data Share Units'!S:S,'Data Share Units'!I:I,0) -> 0 | L38: =_xlfn.XLOOKUP(D38,'Data Share Units'!T:T,'Data Share Units'!J:J,0) -> 0 | M38: =IFERROR(K38*F38,"") -> 0 | N38: =IFERROR(G38*L38,"") -> 0 | O38: =IF(F38>0,"Enter Value",F38*T37) -> 0 | P38: =IF(G38>0,"Enter Value",G38*U37) -> 0 | R38: =IF(F38>0,R37+O38,IF(F38<0,R37+F38*T37,IF(O38=0,R37))) -> 0 | S38: =IF(G38>0,S37+P38+Q38,IF(G38<0,S37+G38*U37,IF(P38=0,S37))) -> 0 | T38: =IFERROR(R38/H38,0) -> 0 | U38: =IFERROR(S38/I38,0) -> 0 | V38: =IFERROR((R38+S38)/H38,0) -> 0
B39: Share Award | C39: 764 | D39: 765 | E39: 45065 | F39: =IFERROR(_xlfn.XLOOKUP(C39,'Data Share Units'!S:S,'Data Share Units'!G:G),0) -> 0 | G39: =IFERROR(_xlfn.XLOOKUP(D39,'Data Share Units'!T:T,'Data Share Units'!H:H),0) -> 0 | H39: =IFERROR(H38+F39,"") -> 0 | I39: =IFERROR(I38+G39,"") -> 0 | J39: 7.4 | K39: =_xlfn.XLOOKUP(C39,'Data Share Units'!S:S,'Data Share Units'!I:I,0) -> 0 | L39: =_xlfn.XLOOKUP(D39,'Data Share Units'!T:T,'Data Share Units'!J:J,0) -> 0 | M39: =IFERROR(K39*F39,"") -> 0 | N39: =IFERROR(G39*L39,"") -> 0 | O39: =M39 -> 0 | P39: =N39 -> 0 | Q39: =IFERROR(IF((O39+P39)>1000,CEILING((O39+P39)*0.005,5),0),"") -> 0 | R39: =IF(F39>0,R38+O39,IF(F39<0,R38+F39*T38,IF(O39=0,R38))) -> 0 | S39: =IF(G39>0,S38+P39+Q39,IF(G39<0,S38+G39*U38,IF(P39=0,S38))) -> 0 | T39: =IFERROR(R39/H39,0) -> 0 | U39: =IFERROR(S39/I39,0) -> 0 | V39: =IFERROR((R39+S39)/H39,0) -> 0
B40: Earnout | C40: 766 | D40: 767 | E40: 45065 | F40: =IFERROR(_xlfn.XLOOKUP(C40,'Data Share Units'!S:S,'Data Share Units'!G:G),0) -> 0 | G40: =IFERROR(_xlfn.XLOOKUP(D40,'Data Share Units'!T:T,'Data Share Units'!H:H),0) -> 0 | H40: =IFERROR(H39+F40,"") -> 0 | I40: =IFERROR(I39+G40,"") -> 0 | J40: 7.4 | K40: =_xlfn.XLOOKUP(C40,'Data Share Units'!S:S,'Data Share Units'!I:I,0) -> 0 | L40: =_xlfn.XLOOKUP(D40,'Data Share Units'!T:T,'Data Share Units'!J:J,0) -> 0 | M40: =IFERROR(K40*F40,"") -> 0 | N40: =IFERROR(G40*L40,"") -> 0 | O40: =M40 -> 0 | P40: =N40 -> 0 | Q40: =IFERROR(IF((O40+P40)>1000,CEILING((O40+P40)*0.005,5),0),"") -> 0 | R40: =IF(F40>0,R39+O40,IF(F40<0,R39+F40*T39,IF(O40=0,R39))) -> 0 | S40: =IF(G40>0,S39+P40+Q40,IF(G40<0,S39+G40*U39,IF(P40=0,S39))) -> 0 | T40: =IFERROR(R40/H40,0) -> 0 | U40: =IFERROR(S40/I40,0) -> 0 | V40: =IFERROR((R40+S40)/H40,0) -> 0
B41: Sale | C41: 768 | D41: 769 | E41: 45065 | F41: =IFERROR(_xlfn.XLOOKUP(C41,'Data Share Units'!S:S,'Data Share Units'!G:G),0) -> 0 | G41: =IFERROR(_xlfn.XLOOKUP(D41,'Data Share Units'!T:T,'Data Share Units'!H:H),0) -> 0 | H41: =IFERROR(H40+F41,"") -> 0 | I41: =IFERROR(I40+G41,"") -> 0 | J41: 7.4 | K41: =_xlfn.XLOOKUP(C41,'Data Share Units'!S:S,'Data Share Units'!I:I,0) -> 0 | L41: =_xlfn.XLOOKUP(D41,'Data Share Units'!T:T,'Data Share Units'!J:J,0) -> 0 | M41: =IFERROR(K41*F41,"") -> 0 | N41: =IFERROR(G41*L41,"") -> 0 | O41: =IF(F41>0,"Enter Value",F41*T40) -> 0 | P41: =IF(G41>0,"Enter Value",G41*U40) -> 0 | R41: =IF(F41>0,R40+O41,IF(F41<0,R40+F41*T40,IF(O41=0,R40))) -> 0 | S41: =IF(G41>0,S40+P41+Q41,IF(G41<0,S40+G41*U40,IF(P41=0,S40))) -> 0 | T41: =IFERROR(R41/H41,0) -> 0 | U41: =IFERROR(S41/I41,0) -> 0 | V41: =IFERROR((R41+S41)/H41,0) -> 0
...

Sheet C Share Pool
B1: Your C Share Pool
B2: Holder name: | D2: ='Data CShare'!C6 -> 0 | F2: Review and ensure you agree with all default entries below for your base cost. This is to ensure you report the correct base cost of the shares you sold on 20 March.
B3: Holder reference: | D3: ='Data CShare'!B6 -> 0
M4: =IF(K3="","",IF(M3="","PA’s Share Plans team will contact you to confirm your “leaver status” It may be some time after you have left PA before we can communicate your leaver status. ",""))
B5: Transaction | C5: Transaction ID C Ordinary | D5: Date | E5: C Shares bought or sold | F5: Purchase/ Sale Price per share GBP | G5: Aggregate Purchase/ Sale Price GBP | H5: Cumulative C Shares | I5: Cumulative Total cost GBP | J5: Average Cost per C Share GBP | L5: Capital Gains
L6: Total sale value | M6: Total Gains | N6: Year in which gains are reportable | Q6: Transaction ID C Ordinary 22 | R6: Transaction ID C Ordinary 23 | S6: Transaction ID C Ordinary 24
B7: Purchase | C7: 705 | D7: 44384 | E7: =IFERROR(_xlfn.XLOOKUP(C7,'Data CShare'!L:L,'Data CShare'!G:G),0) -> 0 | F7: =_xlfn.XLOOKUP(C7,'Data CShare'!L:L,'Data CShare'!I:I,0) -> 0 | G7: =E7*F7 -> 0 | H7: =E7 -> 0 | I7: =G7 -> 0 | J7: =IFERROR(I7/H7,0) -> 0
B8: =IF(E8<0,"Transfer to Spouse",IF(E8>0,"Transfer from spouse","Transfer")) -> Transfer | C8: 708 | D8: 44418 | E8: =IFERROR(_xlfn.XLOOKUP(C8,'Data CShare'!L:L,'Data CShare'!G:G),0) -> 0 | F8: =_xlfn.XLOOKUP(C8,'Data CShare'!L:L,'Data CShare'!I:I,0) -> 0 | G8: =IF(E8>0,E8*F8,E8*J7) -> 0 | H8: =IFERROR(SUM(E8+H7),0) -> 0 | I8: =I7+G8 -> 0 | J8: =IFERROR(I8/H8,0) -> 0
B9: Sale | C9: 711 | D9: 44540 | E9: =IFERROR(_xlfn.XLOOKUP(C9,'Data CShare'!L:L,'Data CShare'!H:H),0) -> 0 | F9: =_xlfn.XLOOKUP(C9,'Data CShare'!L:L,'Data CShare'!I:I,0) -> 0 | G9: =IF(E9>0,E9*F9,E9*J8) -> 0 | H9: =IFERROR(SUM(E9+H8),0) -> 0 | I9: =I8+G9 -> 0 | J9: =IFERROR(I9/H9,0) -> 0
B10: =IF(E10<0,"Transfer to Spouse",IF(E10>0,"Transfer from spouse","Transfer")) -> Transfer | C10: 719 | D10: 44553 | E10: =IFERROR(_xlfn.XLOOKUP(C10,'Data CShare'!L:L,'Data CShare'!H:H),0) -> 0 | F10: =_xlfn.XLOOKUP(C10,'Data CShare'!L:L,'Data CShare'!I:I,0) -> 0 | G10: =IF(E10>0,E10*F10,E10*J9) -> 0 | H10: =IFERROR(SUM(E10+H9),0) -> 0 | I10: =I9+G10 -> 0 | J10: =IFERROR(I10/H10,0) -> 0
B11: =IF(E11<0,"Transfer to Spouse",IF(E11>0,"Transfer from spouse","Transfer")) -> Transfer | C11: 722 | D11: 44624 | E11: =IFERROR(_xlfn.XLOOKUP(C11,'Data CShare'!L:L,'Data CShare'!G:G),0) -> 0 | F11: =_xlfn.XLOOKUP(C11,'Data CShare'!L:L,'Data CShare'!I:I,0) -> 0 | G11: =IF(E11>0,E11*F11,E11*J10) -> 0 | H11: =IFERROR(SUM(E11+H10),0) -> 0 | I11: =I10+G11 -> 0 | J11: =IFERROR(I11/H11,0) -> 0
B12: Purchase | C12: 737 | D12: 44734 | E12: =IFERROR(_xlfn.XLOOKUP(C12,'Data CShare'!L:L,'Data CShare'!G:G),0) -> 0 | F12: =_xlfn.XLOOKUP(C12,'Data CShare'!L:L,'Data CShare'!I:I,0) -> 0 | G12: =IF(E12>0,E12*F12,E12*J11) -> 0 | H12: =IFERROR(SUM(E12+H11),0) -> 0 | I12: =I11+G12 -> 0 | J12: =IFERROR(I12/H12,0) -> 0
B13: Sale | C13: 738 | D13: 44734 | E13: =IFERROR(_xlfn.XLOOKUP(C13,'Data CShare'!L:L,'Data CShare'!H:H),0) -> 0 | F13: =_xlfn.XLOOKUP(C13,'Data CShare'!L:L,'Data CShare'!I:I,0) -> 0 | G13: =IF(E13>0,E13*F13,E13*J12) -> 0 | H13: =IFERROR(SUM(E13+H12),0) -> 0 | I13: =I12+G13 -> 0 | J13: =IFERROR(I13/H13,0) -> 0
B14: =IF(E14<0,"Transfer to Spouse",IF(E14>0,"Transfer from spouse","Transfer")) -> Transfer | C14: 741 | D14: 44753 | E14: =IFERROR(_xlfn.XLOOKUP(C14,'Data CShare'!L:L,'Data CShare'!G:G),0) -> 0 | F14: =_xlfn.XLOOKUP(C14,'Data CShare'!L:L,'Data CShare'!I:I,0) -> 0 | G14: =IF(E14>0,E14*F14,E14*J13) -> 0 | H14: =IFERROR(SUM(E14+H13),0) -> 0 | I14: =I13+G14 -> 0 | J14: =IFERROR(I14/H14,0) -> 0
B15: =IF(E15<0,"Transfer to Spouse",IF(E15>0,"Transfer from spouse","Transfer")) -> Transfer | C15: 744 | D15: 44876 | E15: =IFERROR(_xlfn.XLOOKUP(C15,'Data CShare'!L:L,'Data CShare'!G:G),0) -> 0 | F15: =_xlfn.XLOOKUP(C15,'Data CShare'!L:L,'Data CShare'!I:I,0) -> 0 | G15: =IF(E15>0,E15*F15,E15*J14) -> 0 | H15: =IFERROR(SUM(E15+H14),0) -> 0 | I15: =I14+G15 -> 0 | J15: =IFERROR(I15/H15,0) -> 0
B16: Sale | C16: 747 | D16: 44910 | E16: =IFERROR(_xlfn.XLOOKUP(C16,'Data CShare'!L:L,'Data CShare'!H:H),0) -> 0 | F16: =_xlfn.XLOOKUP(C16,'Data CShare'!L:L,'Data CShare'!I:I,0) -> 0 | G16: =IF(E16>0,E16*F16,E16*J15) -> 0 | H16: =IFERROR(SUM(E16+H15),0) -> 0 | I16: =I15+G16 -> 0 | J16: =IFERROR(I16/H16,0) -> 0
B17: Sale | C17: 753 | D17: 44979 | E17: =IFERROR(_xlfn.XLOOKUP(C17,'Data CShare'!L:L,'Data CShare'!H:H),0) -> 0 | F17: =_xlfn.XLOOKUP(C17,'Data CShare'!L:L,'Data CShare'!I:I,0) -> 0 | G17: =IF(E17>0,E17*F17,E17*J16) -> 0 | H17: =IFERROR(SUM(E17+H16),0) -> 0 | I17: =I16+G17 -> 0 | J17: =IFERROR(I17/H17,0) -> 0
B18: Transfer | C18: 759 | D18: 45016 | E18: =IFERROR(_xlfn.XLOOKUP(C18,'Data CShare'!L:L,'Data CShare'!G:G),0) -> 0 | F18: =_xlfn.XLOOKUP(C18,'Data CShare'!L:L,'Data CShare'!I:I,0) -> 0 | G18: =IF(E18>0,E18*F18,E18*J17) -> 0 | H18: =IFERROR(SUM(E18+H17),0) -> 0 | I18: =I17+G18 -> 0 | J18: =IFERROR(I18/H18,0) -> 0
B19: Purchase | C19: 773 | D19: 45065 | E19: =IFERROR(_xlfn.XLOOKUP(C19,'Data CShare'!L:L,'Data CShare'!G:G),0) -> 0 | F19: =_xlfn.XLOOKUP(C19,'Data CShare'!L:L,'Data CShare'!I:I,0) -> 0 | G19: =IF(E19>0,E19*F19,E19*J18) -> 0 | H19: =IFERROR(SUM(E19+H18),0) -> 0 | I19: =I18+G19 -> 0 | J19: =IFERROR(I19/H19,0) -> 0
B20: Sale | C20: 772 | D20: 45065 | E20: =IFERROR(_xlfn.XLOOKUP(C20,'Data CShare'!L:L,'Data CShare'!H:H),0) -> 0 | F20: =_xlfn.XLOOKUP(C20,'Data CShare'!L:L,'Data CShare'!I:I,0) -> 0 | G20: =IF(E20>0,E20*F20,E20*J19) -> 0 | H20: =IFERROR(SUM(E20+H19),0) -> 0 | I20: =I19+G20 -> 0 | J20: =IFERROR(I20/H20,0) -> 0
B21: Purchase | C21: 774 | D21: 45078 | E21: =IFERROR(_xlfn.XLOOKUP(C21,'Data CShare'!L:L,'Data CShare'!G:G),0) -> 0 | F21: =_xlfn.XLOOKUP(C21,'Data CShare'!L:L,'Data CShare'!I:I,0) -> 0 | G21: =IF(E21>0,E21*F21,E21*J20) -> 0 | H21: =IFERROR(SUM(E21+H20),0) -> 0 | I21: =I20+G21 -> 0 | J21: =IFERROR(I21/H21,0) -> 0
B22: Purchase | C22: 780 | D22: 45103 | E22: =IFERROR(_xlfn.XLOOKUP(C22,'Data CShare'!L:L,'Data CShare'!G:G),0) -> 0 | F22: =_xlfn.XLOOKUP(C22,'Data CShare'!L:L,'Data CShare'!I:I,0) -> 0 | G22: =IF(E22>0,E22*F22,E22*J21) -> 0 | H22: =IFERROR(SUM(E22+H21),0) -> 0 | I22: =I21+G22 -> 0 | J22: =IFERROR(I22/H22,0) -> 0
B23: Transfer | C23: 784 | D23: 45124 | E23: =IFERROR(_xlfn.XLOOKUP(C23,'Data CShare'!L:L,'Data CShare'!G:G),0) -> 0 | F23: =_xlfn.XLOOKUP(C23,'Data CShare'!L:L,'Data CShare'!I:I,0) -> 0 | G23: =IF(E23>0,E23*F23,E23*J22) -> 0 | H23: =IFERROR(SUM(E23+H22),0) -> 0 | I23: =I22+G23 -> 0 | J23: =IFERROR(I23/H23,0) -> 0
B24: Sale | C24: 791 | D24: 45191 | E24: =IFERROR(_xlfn.XLOOKUP(C24,'Data CShare'!L:L,'Data CShare'!H:H),0) -> 0 | F24: =_xlfn.XLOOKUP(C24,'Data CShare'!L:L,'Data CShare'!I:I,0) -> 0 | G24: =IF(E24>0,E24*F24,E24*J23) -> 0 | H24: =IFERROR(SUM(E24+H23),0) -> 0 | I24: =I23+G24 -> 0 | J24: =IFERROR(I24/H24,0) -> 0 | Q24: 793 | R24: 794
B25: Sale | C25: 799 | D25: 45261 | E25: =IFERROR(_xlfn.XLOOKUP(C25,'Data CShare'!L:L,'Data CShare'!H:H),0) -> 0 | F25: =_xlfn.XLOOKUP(C25,'Data CShare'!L:L,'Data CShare'!I:I,0) -> 0 | G25: =IF(E25>0,E25*F25,E25*J24) -> 0 | H25: =IFERROR(SUM(E25+H24),0) -> 0 | I25: =I24+G25 -> 0 | J25: =IFERROR(I25/H25,0) -> 0 | Q25: 800 | R25: 801
B26: Transfer | C26: 805 | D26: 45257 | E26: =IFERROR(_xlfn.XLOOKUP(C26,'Data CShare'!L:L,'Data CShare'!G:G),0) -> 0 | F26: =_xlfn.XLOOKUP(C26,'Data CShare'!L:L,'Data CShare'!I:I,0) -> 0 | G26: =IF(E26>0,E26*F26,E26*J25) -> 0 | H26: =IFERROR(SUM(E26+H25),0) -> 0 | I26: =I25+G26 -> 0 | J26: =IFERROR(I26/H26,0) -> 0
B27: Sale | C27: 806 | D27: 45274 | E27: =IFERROR(_xlfn.XLOOKUP(C27,'Data CShare'!L:L,'Data CShare'!H:H),0) -> 0 | F27: =_xlfn.XLOOKUP(C27,'Data CShare'!L:L,'Data CShare'!I:I,0) -> 0 | G27: =IF(E27>0,E27*F27,E27*J26) -> 0 | H27: =IFERROR(SUM(E27+H26),0) -> 0 | I27: =I26+G27 -> 0 | J27: =IFERROR(I27/H27,0) -> 0 | Q27: 807 | R27: 808
B28: Purchase | C28: 821 | D28: 45447 | E28: =IFERROR(_xlfn.XLOOKUP(C28,'Data CShare'!L:L,'Data CShare'!G:G),0) -> 0 | F28: =_xlfn.XLOOKUP(C28,'Data CShare'!L:L,'Data CShare'!I:I,0) -> 0 | G28: =IF(E28>0,E28*F28,E28*J27) -> 0 | H28: =IFERROR(SUM(E28+H27),0) -> 0 | I28: =I27+G28 -> 0 | J28: =IFERROR(I28/H28,0) -> 0
B29: Sale | C29: 822 | D29: 45447 | E29: =IFERROR(_xlfn.XLOOKUP(C29,'Data CShare'!L:L,'Data CShare'!H:H),0) -> 0 | F29: =_xlfn.XLOOKUP(C29,'Data CShare'!L:L,'Data CShare'!I:I,0) -> 0 | G29: =IF(E29>0,E29*F29,E29*J28) -> 0 | H29: =IFERROR(SUM(E29+H28),0) -> 0 | I29: =I28+G29 -> 0 | J29: =IFERROR(I29/H29,0) -> 0 | Q29: 823 | R29: 824
B30: Purchase | C30: 825 | D30: 45461 | E30: =IFERROR(_xlfn.XLOOKUP(C30,'Data CShare'!L:L,'Data CShare'!G:G),0) -> 0 | F30: =_xlfn.XLOOKUP(C30,'Data CShare'!L:L,'Data CShare'!I:I,0) -> 0 | G30: =IF(E30>0,E30*F30,E30*J29) -> 0 | H30: =IFERROR(SUM(E30+H29),0) -> 0 | I30: =I29+G30 -> 0 | J30: =IFERROR(I30/H30,0) -> 0
B31: Purchase | C31: 827 | D31: 45467 | E31: =IFERROR(_xlfn.XLOOKUP(C31,'Data CShare'!L:L,'Data CShare'!G:G),0) -> 0 | F31: =_xlfn.XLOOKUP(C31,'Data CShare'!L:L,'Data CShare'!I:I,0) -> 0 | G31: =IF(E31>0,E31*F31,E31*J30) -> 0 | H31: =IFERROR(SUM(E31+H30),0) -> 0 | I31: =I30+G31 -> 0 | J31: =IFERROR(I31/H31,0) -> 0
B32: Transfer | C32: 831 | D32: 45477 | E32: =IFERROR(_xlfn.XLOOKUP(C32,'Data CShare'!L:L,'Data CShare'!G:G),0) -> 0 | F32: =_xlfn.XLOOKUP(C32,'Data CShare'!L:L,'Data CShare'!I:I,0) -> 0 | G32: =IF(E32>0,E32*F32,E32*J31) -> 0 | H32: =IFERROR(SUM(E32+H31),0) -> 0 | I32: =I31+G32 -> 0 | J32: =IFERROR(I32/H32,0) -> 0
B33: Sale | C33: 836 | D33: 45555 | E33: =IFERROR(_xlfn.XLOOKUP(C33,'Data CShare'!L:L,'Data CShare'!H:H),0) -> 0 | F33: =_xlfn.XLOOKUP(C33,'Data CShare'!L:L,'Data CShare'!I:I,0) -> 0 | G33: =IF(E33>0,E33*F33,E33*J32) -> 0 | H33: =IFERROR(SUM(E33+H32),0) -> 0 | I33: =I32+G33 -> 0 | J33: =IFERROR(I33/H33,0) -> 0 | Q33: 837 | R33: 838 | S33: 839
B34: Transfer | C34: 845 | D34: 45568 | E34: =IFERROR(_xlfn.XLOOKUP(C34,'Data CShare'!L:L,'Data CShare'!G:G),0) -> 0 | F34: =_xlfn.XLOOKUP(C34,'Data CShare'!L:L,'Data CShare'!I:I,0) -> 0 | G34: =IF(E34>0,E34*F34,E34*J33) -> 0 | H34: =IFERROR(SUM(E34+H33),0) -> 0 | I34: =I33+G34 -> 0 | J34: =IFERROR(I34/H34,0) -> 0
B35: Transfer | C35: 848 | D35: 45590 | E35: =IFERROR(_xlfn.XLOOKUP(C35,'Data CShare'!L:L,'Data CShare'!G:G),0) -> 0 | F35: =_xlfn.XLOOKUP(C35,'Data CShare'!L:L,'Data CShare'!I:I,0) -> 0 | G35: =IF(E35>0,E35*F35,E35*J34) -> 0 | H35: =IFERROR(SUM(E35+H34),0) -> 0 | I35: =I34+G35 -> 0 | J35: =IFERROR(I35/H35,0) -> 0
B36: Sale | C36: 856 | D36: 45643 | E36: =IFERROR(_xlfn.XLOOKUP(C36,'Data CShare'!L:L,'Data CShare'!H:H),0) -> 0 | F36: =_xlfn.XLOOKUP(C36,'Data CShare'!L:L,'Data CShare'!I:I,0) -> 0 | G36: =IF(E36>0,E36*F36,E36*J35) -> 0 | H36: =IFERROR(SUM(E36+H35),0) -> 0 | I36: =I35+G36 -> 0 | J36: =IFERROR(I36/H36,0) -> 0 | Q36: 857 | R36: 858 | S36: 859
B37: Sale | C37: 864 | D37: 45716 | E37: =IFERROR(_xlfn.XLOOKUP(C37,'Data CShare'!L:L,'Data CShare'!H:H),0) -> 0 | F37: =_xlfn.XLOOKUP(C37,'Data CShare'!L:L,'Data CShare'!I:I,0) -> 0 | G37: =IF(E37>0,E37*F37,E37*J36) -> 0 | H37: =IFERROR(SUM(E37+H36),0) -> 0 | I37: =I36+G37 -> 0 | J37: =IFERROR(I37/H37,0) -> 0
B38: Transfer | C38: 870 | D38: 45741 | E38: =IFERROR(_xlfn.XLOOKUP(C38,'Data CShare'!L:L,'Data CShare'!G:G),0) -> 0 | F38: =_xlfn.XLOOKUP(C38,'Data CShare'!L:L,'Data CShare'!I:I,0) -> 0 | G38: =IF(E38>0,E38*F38,E38*J37) -> 0 | H38: =IFERROR(SUM(E38+H37),0) -> 0 | I38: =I37+G38 -> 0 | J38: =IFERROR(I38/H38,0) -> 0
B39: Sale | C39: 875 | D39: 45824 | E39: =IFERROR(_xlfn.XLOOKUP(C39,'Data CShare'!L:L,'Data CShare'!H:H),0) -> 0 | F39: =_xlfn.XLOOKUP(C39,'Data CShare'!L:L,'Data CShare'!I:I,0) -> 0 | G39: =IF(E39>0,E39*F39,E39*J38) -> 0 | H39: =IFERROR(SUM(E39+H38),0) -> 0 | I39: =I38+G39 -> 0 | J39: =IFERROR(I39/H39,0) -> 0 | Q39: 876 | R39: 877 | S39: 878
B40: Sale | C40: 888 | D40: 45919 | E40: =IFERROR(_xlfn.XLOOKUP(C40,'Data CShare'!L:L,'Data CShare'!H:H),0) -> 0 | F40: =_xlfn.XLOOKUP(C40,'Data CShare'!L:L,'Data CShare'!I:I,0) -> 0 | G40: =IF(E40>0,E40*F40,E40*J39) -> 0 | H40: =IFERROR(SUM(E40+H39),0) -> 0 | I40: =I39+G40 -> 0 | J40: =IFERROR(I40/H40,0) -> 0 | Q40: 889 | R40: 890 | S40: 891
...

Sheet 20 March 2026 Sale

Sheet Data Share Units

Sheet Data CShare
B2: Your PA C Ordinary Share history
B3: This report shows the market value of PA shares at the time you made any transaction. These prices may be different from how you calculated base cost for capital gain tax purposes.
B5: BSID | C5: Holder name | D5: COMPANY NAME | E5: TRANSACTION DATE | F5: TRANSACTION NAME | G5: PURCHASES | H5: SALES | I5: PRICE GBP | J5: COST / PROCEEDS GBP | K5: CUMULATIVE SHARE UNITS | L5: TRANSACTION SUMMARY ID
